BEGIN:VCALENDAR
VERSION:2.0
PRODID:-//DIGITAL FACTORY//EVENTS MAKER V1.6.14//EN
CALSCALE:GREGORIAN
BEGIN:VEVENT
DTEND:20250614
UID:69e6117f3f7c8
DTSTAMP:20260420T114359Z
LOCATION:GC Coburg Schloßallee 6, Weitramsdorf, Deutschland, 96479, DE
DESCRIPTION:Gastgeber      &nbsp\;  Golfclub       &nbsp\;  Kontakt  Tel.: 0 95 67 / 98 11 58 - 0  info@gc-coburg.de  www.gc-coburg.de  Golf-Club Coburg e.V. Schloss Tambach  Schloßallee 6  96479 Weitramsdorf    Golf spielen am Fuß der Veste Coburg – der fränkischen Krone.  Der in eine herrliche Landschaft perfekt eingebettete Meisterschaftsplatz bietet für alle Handicap-Klassen interessante Herausforderungen. Mit über 6000 Metern Spiellänge (Herren) gehört er zu den Ausnahmeplätzen in Deutschland. Ein von Gästen vielfach gelobter Platz\, was wohl auch am Restaurant mit Sonnenterrasse und dem exzellenten Pro-Shop liegt. Ein Kurzurlaub im Coburger Land wird Sie sicher begeistern.    &nbsp\;
URL;VALUE=URI:https://expert-golftrophy.de/veranstaltungen/event/coburg/
SUMMARY:Coburg
DTSTART:20250614
END:VEVENT
END:VCALENDAR
